{
 "currentVersion": 10.91,
 "serviceDescription": "awra_projections/physical_decade_crf_rcp45_all_data",
 "name": "awra_projections/physical_decade_crf_rcp45_all_data",
 "description": "",
 "extent": {
  "xmin": 111.975,
  "ymin": -44.025000000000006,
  "xmax": 154.025,
  "ymax": -9.975,
  "spatialReference": {
   "wkid": 4326,
   "latestWkid": 4326
  }
 },
 "initialExtent": {
  "xmin": 111.975,
  "ymin": -44.025000000000006,
  "xmax": 154.025,
  "ymax": -9.975,
  "spatialReference": {
   "wkid": 4326,
   "latestWkid": 4326
  }
 },
 "fullExtent": {
  "xmin": 111.975,
  "ymin": -44.025000000000006,
  "xmax": 154.025,
  "ymax": -9.975,
  "spatialReference": {
   "wkid": 4326,
   "latestWkid": 4326
  }
 },
 "hasMultidimensions": true,
 "timeInfo": {
  "startTimeField": "StdTime",
  "endTimeField": "StdTime",
  "timeExtent": [
   1893456000000,
   3629145600000
  ],
  "timeReference": null,
  "defaultTimeInterval": 5479,
  "defaultTimeIntervalUnits": "esriTimeUnitsDays"
 },
 "pixelSizeX": 0.05000000000000002,
 "pixelSizeY": 0.05000000000000001,
 "datasetFormat": "Cache/LERC2D",
 "uncompressedSize": 2290884,
 "blockWidth": 256,
 "blockHeight": 256,
 "compressionType": "LERC2D",
 "bandNames": [
  "Band_1"
 ],
 "allowCopy": true,
 "allowAnalysis": true,
 "defaultVariable": "",
 "bandCount": 1,
 "noDataValue": 3.4E38,
 "noDataValues": [
  3.4E38
 ],
 "pixelType": "F32",
 "minPixelSize": 0,
 "maxPixelSize": 0,
 "copyrightText": "",
 "serviceDataType": "esriImageServiceDataTypeScientific",
 "serviceSourceType": "esriImageServiceSourceTypeDataset",
 "minValues": [
  -2.5184173583984375
 ],
 "maxValues": [
  140.4112548828125
 ],
 "meanValues": [
  31.871657685945312
 ],
 "stdvValues": [
  22.942188602669127
 ],
 "objectIdField": "",
 "fields": [],
 "capabilities": "Mensuration,Image,Metadata",
 "defaultMosaicMethod": "Center",
 "allowedMosaicMethods": "",
 "sortField": "",
 "sortValue": null,
 "sortAscending": true,
 "mosaicOperator": "First",
 "defaultCompressionQuality": 10000,
 "defaultResamplingMethod": "Bilinear",
 "maxImageHeight": 5000,
 "maxImageWidth": 5000,
 "allowRasterFunction": true,
 "rasterFunctionInfos": [
  {
   "name": "None",
   "description": "Make a Raster or Raster Dataset into a Function Raster Dataset.",
   "help": ""
  },
  {
   "name": "awra_prj_abs_pr_year",
   "description": "A raster function table that categorises absolute change of pr to 11 classes",
   "help": "\n "
  },
  {
   "name": "awra_prj_abs_pr_wetdry",
   "description": "A raster function table that categorises absolute change of pr to 11 classes",
   "help": "\n "
  },
  {
   "name": "awra_prj_abs_pr_season",
   "description": "A raster function table that categorises absolute change of pr to 11 classes",
   "help": "\n "
  },
  {
   "name": "awra_prj_abs_etot_year",
   "description": "A raster function table that categorises absolute change of etot to 11 classes",
   "help": "\n "
  },
  {
   "name": "awra_prj_abs_etot_wetdry",
   "description": "A raster function table that categorises absolute change of etot to 11 classes",
   "help": "\n "
  },
  {
   "name": "awra_prj_abs_etot_season",
   "description": "A raster function table that categorises absolute change of etot to 11 classes",
   "help": "\n "
  },
  {
   "name": "awra_prj_abs_qtot_year",
   "description": "A raster function table that categorises absolute change of qtot to 11 classes",
   "help": "\n "
  },
  {
   "name": "awra_prj_abs_qtot_wetdry",
   "description": "A raster function table that categorises absolute change of etot to 11 classes",
   "help": "\n "
  },
  {
   "name": "awra_prj_abs_qtot_season",
   "description": "A raster function table that categorises absolute change of etot to 11 classes",
   "help": "\n "
  },
  {
   "name": "awra_prj_abs_sm_pct",
   "description": "A raster function table that categorises absolute change of sm_pct to 11 classes",
   "help": "\n "
  },
  {
   "name": "awra_prj_abs_e0_year",
   "description": "A raster function table that categorises absolute change of e0 to 11 classes",
   "help": "\n "
  },
  {
   "name": "awra_prj_abs_e0_wetdry",
   "description": "A raster function table that categorises absolute change of e0 to 11 classes",
   "help": "\n "
  },
  {
   "name": "awra_prj_abs_e0_season",
   "description": "A raster function table that categorises absolute change of e0 to 11 classes",
   "help": "\n "
  }
 ],
 "rasterTypeInfos": [
  {
   "name": "Raster Dataset",
   "description": "Supports all ArcGIS Raster Datasets",
   "help": ""
  }
 ],
 "mensurationCapabilities": "Basic",
 "hasHistograms": true,
 "hasColormap": false,
 "hasRasterAttributeTable": false,
 "minScale": 0,
 "maxScale": 0,
 "exportTilesAllowed": false,
 "supportsStatistics": false,
 "supportsAdvancedQueries": false,
 "editFieldsInfo": null,
 "ownershipBasedAccessControlForRasters": null,
 "allowComputeTiePoints": false,
 "useStandardizedQueries": true,
 "advancedQueryCapabilities": {
  "useStandardizedQueries": true,
  "supportsStatistics": false,
  "supportsOrderBy": false,
  "supportsDistinct": false,
  "supportsPagination": false
 },
 "spatialReference": {
  "wkid": 4326,
  "latestWkid": 4326
 }
}
