View In:
ArcGIS JavaScript
ArcGIS Online Map Viewer
ArcGIS Earth
ArcMap
View Footprint In:
ArcGIS Online Map Viewer
Service Description: awra_projections/percentile_decade_crf_rcp85_all_data
Name: awra_projections/percentile_decade_crf_rcp85_all_data
Description:
Single Fused Map Cache: false
Extent:
XMin: 111.975
YMin: -44.025000000000006
XMax: 154.025
YMax: -9.975
Spatial Reference: 4326
(4326)
Initial Extent:
XMin: 111.975
YMin: -44.025000000000006
XMax: 154.025
YMax: -9.975
Spatial Reference: 4326
(4326)
Full Extent:
XMin: 111.975
YMin: -44.025000000000006
XMax: 154.025
YMax: -9.975
Spatial Reference: 4326
(4326)
Time Info:
Start Time Field: StdTime
End Time Field: StdTime
Time Extent:
[2030/01/01 00:00:00 UTC, 2085/01/01 00:00:00 UTC]
Time Reference:
N/A
Pixel Size X: 0.05000000000000002
Pixel Size Y: 0.05000000000000001
Band Count: 1
Pixel Type: F32
RasterFunction Infos: {"rasterFunctionInfos": [
{
"name": "prj_relative",
"description": "A raster function table that categorises relative change into 11 categories. Values are for a percenteage of change from median and values are valid between -100% and + infinity%",
"help": "\n "
},
{
"name": "prj_relative_qtot",
"description": "A raster function table that categorises relative change for the variable qtot into 11 categories. Values are for a percenteage of change from median and values are valid between -100% and + infinity%",
"help": "\n "
},
{
"name": "None",
"description": "",
"help": ""
}
]}
Mensuration Capabilities: Basic
Has Histograms: true
Has Colormap: false
Has Multi Dimensions : true
Rendering Rule:
Min Scale: 0
Max Scale: 0
Copyright Text:
Service Data Type: esriImageServiceDataTypeScientific
Min Values: -0.4653162658214569
Max Values: 22.521879196166992
Mean Values: 6.368956855469058
Standard Deviation Values: 3.23757999071666
Object ID Field:
Fields:
None
Default Mosaic Method: Center
Allowed Mosaic Methods:
SortField:
SortValue: null
Mosaic Operator: First
Default Compression Quality: 10000
Default Resampling Method: Bilinear
Max Record Count: null
Max Image Height: 5000
Max Image Width: 5000
Max Download Image Count: null
Max Mosaic Image Count: null
Allow Raster Function: true
Allow Copy: true
Allow Analysis: true
Allow Compute TiePoints: false
Supports Statistics: false
Supports Advanced Queries: false
Use StandardizedQueries: true
Raster Type Infos:
Name: Raster Dataset
Description: Supports all ArcGIS Raster Datasets
Help:
Has Raster Attribute Table: false
Edit Fields Info: null
Ownership Based AccessControl For Rasters: null
Child Resources:
Info
Histograms
Statistics
Key Properties
Legend
Raster Function Infos
Multidimensional Info
Slices
Supported Operations:
Export Image
Identify
Measure
Compute Histograms
Compute Statistics Histograms
Get Samples
Compute Class Statistics
Query Boundary
Compute Pixel Location
Compute Angles
Validate
Project