View In:
ArcGIS JavaScript
ArcGIS Online Map Viewer
ArcGIS Earth
ArcMap
View Footprint In:
ArcGIS Online Map Viewer
Service Description: awra_projections/physical_decade_crf_historicalbase_all_data
Name: awra_projections/physical_decade_crf_historicalbase_all_data
Description:
Single Fused Map Cache: false
Extent:
XMin: 111.975
YMin: -44.025000000000006
XMax: 154.025
YMax: -9.975
Spatial Reference: 4326
(4326)
Initial Extent:
XMin: 111.975
YMin: -44.025000000000006
XMax: 154.025
YMax: -9.975
Spatial Reference: 4326
(4326)
Full Extent:
XMin: 111.975
YMin: -44.025000000000006
XMax: 154.025
YMax: -9.975
Spatial Reference: 4326
(4326)
Time Info:
Start Time Field: StdTime
End Time Field: StdTime
Time Extent:
[1990/01/01 00:00:00 UTC, 1990/01/01 00:00:00 UTC]
Time Reference:
N/A
Pixel Size X: 0.05000000000000002
Pixel Size Y: 0.05000000000000001
Band Count: 1
Pixel Type: F32
RasterFunction Infos: {"rasterFunctionInfos": [
{
"name": "e0_year",
"description": "A raster function table that categorises evaporation in mm to 10 categories and colours based on corporate colours for measurements in mm for monthly data.",
"help": "\n "
},
{
"name": "etot_year",
"description": "A raster function table that categorises modelled total evaporation in mm to 10 categories and colours based on corporate colours for measurements in mm for yearly data.",
"help": "\n "
},
{
"name": "qtot_year",
"description": "A raster function table that categorises runoff in mm to 10 categories and colours based on corporate colours for measurements in mm for yearly data.",
"help": "\n "
},
{
"name": "dd_year",
"description": "A raster function table that categorises deep drainage in mm to 10 categories and colours based on corporate colours for measurements in mm for yearly data.",
"help": "\n "
},
{
"name": "precip_year",
"description": "A raster function table that categorises precipitation in mm to 10 categories and colours based on corporate colours for measurements in mm for yearly data.",
"help": "\n "
},
{
"name": "smpfull",
"description": "A raster function table that categorises soil moisture in percent sull to 10 categories and colours based on corporate colours for measurements in percentages.",
"help": "\n "
},
{
"name": "qtot_3month",
"description": "A raster function table that categorises qtot (runoff) in mm to 10 categories and colours based on corporate colours for measurements in mm for daily data. the period of aggregation is 6 months.",
"help": "\n "
},
{
"name": "qtot_6month",
"description": "A raster function table that categorises qtot (runoff) in mm to 10 categories and colours based on corporate colours for measurements in mm for daily data. the period of aggregation is 6 months.",
"help": "\n "
},
{
"name": "etot_3month",
"description": "A raster function table that categorises etot in mm to 10 categories and colours based on corporate colours for measurements in mm for daily data. the period of aggregation is 3 months.",
"help": "\n "
},
{
"name": "etot_6month",
"description": "A raster function table that categorises etot in mm to 10 categories and colours based on corporate colours for measurements in mm for daily data. the period of aggregation is 6 months.",
"help": "\n "
},
{
"name": "precip_6month",
"description": "A raster function table that categorises precip in mm to 10 categories and colours based on corporate colours for measurements in mm for daily data. the period of aggregation is 6 months.",
"help": "\n "
},
{
"name": "precip_3month",
"description": "A raster function table that categorises precip in mm to 10 categories and colours based on corporate colours for measurements in mm for daily data. the period of aggregation is 3 months.",
"help": "\n "
},
{
"name": "e0_3month",
"description": "A raster function table that categorises E0 in mm to 10 categories and colours based on corporate colours for measurements in mm for daily data. the period of aggregation is 3 months.",
"help": "\n "
},
{
"name": "e0_6month",
"description": "A raster function table that categorises E0 in mm to 10 categories and colours based on corporate colours for measurements in mm for daily data. the period of aggregation is 6 months.",
"help": "\n "
},
{
"name": "None",
"description": "",
"help": ""
}
]}
Mensuration Capabilities: Basic
Has Histograms: true
Has Colormap: false
Has Multi Dimensions : true
Rendering Rule:
Min Scale: 0
Max Scale: 0
Copyright Text:
Service Data Type: esriImageServiceDataTypeScientific
Min Values: 58.03638458251953
Max Values: 2544.8642578125
Mean Values: 851.8280918769009
Standard Deviation Values: 558.3700096534525
Object ID Field:
Fields:
None
Default Mosaic Method: Center
Allowed Mosaic Methods:
SortField:
SortValue: null
Mosaic Operator: First
Default Compression Quality: 10000
Default Resampling Method: Bilinear
Max Record Count: null
Max Image Height: 5000
Max Image Width: 5000
Max Download Image Count: null
Max Mosaic Image Count: null
Allow Raster Function: true
Allow Copy: true
Allow Analysis: true
Allow Compute TiePoints: false
Supports Statistics: false
Supports Advanced Queries: false
Use StandardizedQueries: true
Raster Type Infos:
Name: Raster Dataset
Description: Supports all ArcGIS Raster Datasets
Help:
Has Raster Attribute Table: false
Edit Fields Info: null
Ownership Based AccessControl For Rasters: null
Child Resources:
Info
Histograms
Statistics
Key Properties
Legend
Raster Function Infos
Multidimensional Info
Slices
Supported Operations:
Export Image
Identify
Measure
Compute Histograms
Compute Statistics Histograms
Get Samples
Compute Class Statistics
Query Boundary
Compute Pixel Location
Compute Angles
Validate
Project